BEGIN:VCALENDAR
VERSION:2.0
PRODID:icalendar-ruby
CALSCALE:GREGORIAN
METHOD:PUBLISH
BEGIN:VEVENT
DTSTAMP:20260420T130322Z
UID:5-391207@sonflower.ca
DTSTART:20261101T180000Z
DTEND:20261101T190000Z
CLASS:PUBLIC
CREATED:20260420T044624
DESCRIPTION:Sunday Worship
LAST-MODIFIED:20260420T044624
LOCATION:
SUMMARY:Sunday Worship
URL;VALUE=URI:https://sonflower.ca/events/sunday-worship/2026-11-01
END:VEVENT
END:VCALENDAR
